BEGIN:VCALENDAR
VERSION:2.0
PRODID:-//phil.firespring.org//NONSGML kigkonsult.se iCalcreator 2.30.10//
CALSCALE:GREGORIAN
METHOD:PUBLISH
UID:b4dbdee5-91e4-4fd5-baf0-77185e19c310
X-WR-CALDESC:Please bring drinking water
X-WR-RELCALID:6945b275ba55a1498e25620ee70efab2
X-WR-TIMEZONE:America/Chicago
BEGIN:VTIMEZONE
TZID:America/Chicago
BEGIN:STANDARD
TZNAME:CST
DTSTART:20281105T020000
TZOFFSETFROM:-0500
TZOFFSETTO:-0600
RDATE:20291104T020000
RDATE:20301103T020000
END:STANDARD
BEGIN:DAYLIGHT
TZNAME:CDT
DTSTART:20290311T020000
TZOFFSETFROM:-0600
TZOFFSETTO:-0500
RDATE:20300310T020000
RDATE:20310309T020000
END:DAYLIGHT
END:VTIMEZONE
BEGIN:VEVENT
UID:6c5a7007-31c1-4f13-b3c0-93c3b6a4439e
DTSTAMP:20260422T053312Z
DESCRIPTION:Please bring drinking water
DTSTART;TZID=America/Chicago:20291004T160000
DTEND;TZID=America/Chicago:20291004T170000
LOCATION:Firespring
SUMMARY:Walking Group
END:VEVENT
END:VCALENDAR
