BEGIN:VCALENDAR
VERSION:2.0
PRODID:-//phil.firespring.org//NONSGML kigkonsult.se iCalcreator 2.30.10//
CALSCALE:GREGORIAN
METHOD:PUBLISH
UID:43e321ad-de44-461c-ac4c-bf96425a32cc
X-WR-CALDESC:Please bring drinking water
X-WR-RELCALID:bf11647b4450cfa4ca3d1638cf39c7a5
X-WR-TIMEZONE:America/Chicago
BEGIN:VTIMEZONE
TZID:America/Chicago
BEGIN:STANDARD
TZNAME:CST
DTSTART:20281105T020000
TZOFFSETFROM:-0500
TZOFFSETTO:-0600
RDATE:20291104T020000
RDATE:20301103T020000
END:STANDARD
BEGIN:DAYLIGHT
TZNAME:CDT
DTSTART:20290311T020000
TZOFFSETFROM:-0600
TZOFFSETTO:-0500
RDATE:20300310T020000
RDATE:20310309T020000
END:DAYLIGHT
END:VTIMEZONE
BEGIN:VEVENT
UID:75c01abd-bc95-48ec-8241-8782899a62f9
DTSTAMP:20260422T071013Z
DESCRIPTION:Please bring drinking water
DTSTART;TZID=America/Chicago:20291101T160000
DTEND;TZID=America/Chicago:20291101T170000
LOCATION:Firespring
SUMMARY:Walking Group
END:VEVENT
END:VCALENDAR
