BEGIN:VCALENDAR
VERSION:2.0
PRODID:-//phil.firespring.org//NONSGML kigkonsult.se iCalcreator 2.30.10//
CALSCALE:GREGORIAN
METHOD:PUBLISH
UID:0da79bb4-8d51-4c1d-af32-808b78efbe9d
X-WR-CALDESC:Please bring drinking water
X-WR-RELCALID:35d751f1e72fead840852865b194b610
X-WR-TIMEZONE:America/Chicago
BEGIN:VTIMEZONE
TZID:America/Chicago
BEGIN:STANDARD
TZNAME:CST
DTSTART:20291104T020000
TZOFFSETFROM:-0500
TZOFFSETTO:-0600
RDATE:20301103T020000
END:STANDARD
BEGIN:DAYLIGHT
TZNAME:CDT
DTSTART:20290311T020000
TZOFFSETFROM:-0600
TZOFFSETTO:-0500
RDATE:20300310T020000
RDATE:20310309T020000
END:DAYLIGHT
END:VTIMEZONE
BEGIN:VEVENT
UID:79f2854e-08d6-4f4b-9e40-000b5c87dca2
DTSTAMP:20260422T092308Z
DESCRIPTION:Please bring drinking water
DTSTART;TZID=America/Chicago:20291213T160000
DTEND;TZID=America/Chicago:20291213T170000
LOCATION:Firespring
SUMMARY:Walking Group
END:VEVENT
END:VCALENDAR
