BEGIN:VCALENDAR
VERSION:2.0
PRODID:-//phil.firespring.org//NONSGML kigkonsult.se iCalcreator 2.30.10//
CALSCALE:GREGORIAN
METHOD:PUBLISH
UID:5b932e68-3a6c-4426-a711-88f7822afd0b
X-WR-CALDESC:Please bring drinking water
X-WR-RELCALID:386ddd1c02a8c6fe87054131fff66b1b
X-WR-TIMEZONE:America/Chicago
BEGIN:VTIMEZONE
TZID:America/Chicago
BEGIN:STANDARD
TZNAME:CST
DTSTART:20291104T020000
TZOFFSETFROM:-0500
TZOFFSETTO:-0600
RDATE:20301103T020000
END:STANDARD
BEGIN:DAYLIGHT
TZNAME:CDT
DTSTART:20290311T020000
TZOFFSETFROM:-0600
TZOFFSETTO:-0500
RDATE:20300310T020000
RDATE:20310309T020000
END:DAYLIGHT
END:VTIMEZONE
BEGIN:VEVENT
UID:10c2f3e8-5c3d-4b07-ab4e-d9e4d3659c2f
DTSTAMP:20260422T113514Z
DESCRIPTION:Please bring drinking water
DTSTART;TZID=America/Chicago:20300214T160000
DTEND;TZID=America/Chicago:20300214T170000
LOCATION:Firespring
SUMMARY:Walking Group
END:VEVENT
END:VCALENDAR
