BEGIN:VCALENDAR
VERSION:2.0
PRODID:-//phil.firespring.org//NONSGML kigkonsult.se iCalcreator 2.30.10//
CALSCALE:GREGORIAN
METHOD:PUBLISH
UID:e5e578cf-d56a-4422-993c-2e5eaf3d888e
X-WR-CALDESC:Please bring drinking water
X-WR-RELCALID:521a87d9e2838132924c991900f92674
X-WR-TIMEZONE:America/Chicago
BEGIN:VTIMEZONE
TZID:America/Chicago
BEGIN:STANDARD
TZNAME:CST
DTSTART:20291104T020000
TZOFFSETFROM:-0500
TZOFFSETTO:-0600
RDATE:20301103T020000
END:STANDARD
BEGIN:DAYLIGHT
TZNAME:CDT
DTSTART:20300310T020000
TZOFFSETFROM:-0600
TZOFFSETTO:-0500
RDATE:20310309T020000
END:DAYLIGHT
END:VTIMEZONE
BEGIN:VEVENT
UID:1a87f08e-b245-440f-870a-f067f7e9a85f
DTSTAMP:20260422T130540Z
DESCRIPTION:Please bring drinking water
DTSTART;TZID=America/Chicago:20300314T160000
DTEND;TZID=America/Chicago:20300314T170000
LOCATION:Firespring
SUMMARY:Walking Group
END:VEVENT
END:VCALENDAR
