BEGIN:VCALENDAR
VERSION:2.0
PRODID:-//phil.firespring.org//NONSGML kigkonsult.se iCalcreator 2.30.10//
CALSCALE:GREGORIAN
METHOD:PUBLISH
UID:4fe16310-4dfb-4f80-9536-660d8b114c86
X-WR-CALDESC:Please bring drinking water
X-WR-RELCALID:2db501aa1e658c16a84aea33361b919c
X-WR-TIMEZONE:America/Chicago
BEGIN:VTIMEZONE
TZID:America/Chicago
BEGIN:STANDARD
TZNAME:CST
DTSTART:20291104T020000
TZOFFSETFROM:-0500
TZOFFSETTO:-0600
RDATE:20301103T020000
END:STANDARD
BEGIN:DAYLIGHT
TZNAME:CDT
DTSTART:20300310T020000
TZOFFSETFROM:-0600
TZOFFSETTO:-0500
RDATE:20310309T020000
END:DAYLIGHT
END:VTIMEZONE
BEGIN:VEVENT
UID:e647b347-8d56-4efd-8c40-4ef7d9e5369b
DTSTAMP:20260422T144605Z
DESCRIPTION:Please bring drinking water
DTSTART;TZID=America/Chicago:20300411T160000
DTEND;TZID=America/Chicago:20300411T170000
LOCATION:Firespring
SUMMARY:Walking Group
END:VEVENT
END:VCALENDAR
