BEGIN:VCALENDAR
VERSION:2.0
PRODID:-//phil.firespring.org//NONSGML kigkonsult.se iCalcreator 2.30.10//
CALSCALE:GREGORIAN
METHOD:PUBLISH
UID:c3caeed2-04d9-455d-8020-c571802a7a1f
X-WR-CALDESC:Please bring drinking water
X-WR-RELCALID:588e0fc7b7d89c793bc56baa2c9c4c5d
X-WR-TIMEZONE:America/Chicago
BEGIN:VTIMEZONE
TZID:America/Chicago
BEGIN:STANDARD
TZNAME:CST
DTSTART:20291104T020000
TZOFFSETFROM:-0500
TZOFFSETTO:-0600
RDATE:20301103T020000
END:STANDARD
BEGIN:DAYLIGHT
TZNAME:CDT
DTSTART:20300310T020000
TZOFFSETFROM:-0600
TZOFFSETTO:-0500
RDATE:20310309T020000
END:DAYLIGHT
END:VTIMEZONE
BEGIN:VEVENT
UID:62702986-2462-431c-9012-b0c9a906a11d
DTSTAMP:20260422T144605Z
DESCRIPTION:Please bring drinking water
DTSTART;TZID=America/Chicago:20300425T160000
DTEND;TZID=America/Chicago:20300425T170000
LOCATION:Firespring
SUMMARY:Walking Group
END:VEVENT
END:VCALENDAR
