BEGIN:VCALENDAR
VERSION:2.0
PRODID:-//phil.firespring.org//NONSGML kigkonsult.se iCalcreator 2.30.10//
CALSCALE:GREGORIAN
METHOD:PUBLISH
UID:f814de64-3995-4b4d-9faa-14c37eb8a3f3
X-WR-CALDESC:
X-WR-RELCALID:085a430a3e4750fe026a7ddbaefed058
X-WR-TIMEZONE:America/Chicago
BEGIN:VTIMEZONE
TZID:America/Chicago
BEGIN:STANDARD
TZNAME:CST
DTSTART:20291104T020000
TZOFFSETFROM:-0500
TZOFFSETTO:-0600
RDATE:20301103T020000
RDATE:20311102T020000
END:STANDARD
BEGIN:DAYLIGHT
TZNAME:CDT
DTSTART:20300310T020000
TZOFFSETFROM:-0600
TZOFFSETTO:-0500
RDATE:20310309T020000
END:DAYLIGHT
END:VTIMEZONE
BEGIN:VEVENT
UID:dd7621db-5529-46c3-88c3-6ac5483e45d1
DTSTAMP:20260422T161522Z
DESCRIPTION:
DTSTART;TZID=America/Chicago:20300516T133000
DTEND;TZID=America/Chicago:20300516T143000
LOCATION:
SUMMARY:Monthly Lunch
END:VEVENT
END:VCALENDAR
