BEGIN:VCALENDAR
VERSION:2.0
PRODID:-//phil.firespring.org//NONSGML kigkonsult.se iCalcreator 2.30.10//
CALSCALE:GREGORIAN
METHOD:PUBLISH
UID:78869929-2e45-4414-aa83-b222ee4f8d21
X-WR-CALDESC:Please bring drinking water
X-WR-RELCALID:082699d97025b46ab0c02cb5d269a1a7
X-WR-TIMEZONE:America/Chicago
BEGIN:VTIMEZONE
TZID:America/Chicago
BEGIN:STANDARD
TZNAME:CST
DTSTART:20291104T020000
TZOFFSETFROM:-0500
TZOFFSETTO:-0600
RDATE:20301103T020000
RDATE:20311102T020000
END:STANDARD
BEGIN:DAYLIGHT
TZNAME:CDT
DTSTART:20300310T020000
TZOFFSETFROM:-0600
TZOFFSETTO:-0500
RDATE:20310309T020000
END:DAYLIGHT
END:VTIMEZONE
BEGIN:VEVENT
UID:affe8b5d-775f-4239-b83a-0e3543b2b160
DTSTAMP:20260422T161133Z
DESCRIPTION:Please bring drinking water
DTSTART;TZID=America/Chicago:20300516T160000
DTEND;TZID=America/Chicago:20300516T170000
LOCATION:Firespring
SUMMARY:Walking Group
END:VEVENT
END:VCALENDAR
