BEGIN:VCALENDAR
VERSION:2.0
PRODID:-//phil.firespring.org//NONSGML kigkonsult.se iCalcreator 2.30.10//
CALSCALE:GREGORIAN
METHOD:PUBLISH
UID:3f181c81-51a6-4be4-9874-1cb2d0021290
X-WR-CALDESC:Please bring drinking water
X-WR-RELCALID:de46c73be05346f40cdba83f97b8b157
X-WR-TIMEZONE:America/Chicago
BEGIN:VTIMEZONE
TZID:America/Chicago
BEGIN:STANDARD
TZNAME:CST
DTSTART:20291104T020000
TZOFFSETFROM:-0500
TZOFFSETTO:-0600
RDATE:20301103T020000
RDATE:20311102T020000
END:STANDARD
BEGIN:DAYLIGHT
TZNAME:CDT
DTSTART:20300310T020000
TZOFFSETFROM:-0600
TZOFFSETTO:-0500
RDATE:20310309T020000
END:DAYLIGHT
END:VTIMEZONE
BEGIN:VEVENT
UID:44191ce1-e34c-4253-9bf8-c5ae9fce4a59
DTSTAMP:20260422T180431Z
DESCRIPTION:Please bring drinking water
DTSTART;TZID=America/Chicago:20300627T160000
DTEND;TZID=America/Chicago:20300627T170000
LOCATION:Firespring
SUMMARY:Walking Group
END:VEVENT
END:VCALENDAR
