BEGIN:VCALENDAR
VERSION:2.0
PRODID:-//phil.firespring.org//NONSGML kigkonsult.se iCalcreator 2.30.10//
CALSCALE:GREGORIAN
METHOD:PUBLISH
UID:3283b824-350f-4d24-b3e8-49db11cba2c4
X-WR-CALDESC:Please bring drinking water
X-WR-RELCALID:32ff77c6bf98d5a37719f4b02854e83f
X-WR-TIMEZONE:America/Chicago
BEGIN:VTIMEZONE
TZID:America/Chicago
BEGIN:STANDARD
TZNAME:CST
DTSTART:20291104T020000
TZOFFSETFROM:-0500
TZOFFSETTO:-0600
RDATE:20301103T020000
RDATE:20311102T020000
END:STANDARD
BEGIN:DAYLIGHT
TZNAME:CDT
DTSTART:20300310T020000
TZOFFSETFROM:-0600
TZOFFSETTO:-0500
RDATE:20310309T020000
END:DAYLIGHT
END:VTIMEZONE
BEGIN:VEVENT
UID:6fbd36ea-93d9-46aa-86e0-11c4aff9083b
DTSTAMP:20260422T200848Z
DESCRIPTION:Please bring drinking water
DTSTART;TZID=America/Chicago:20300718T160000
DTEND;TZID=America/Chicago:20300718T170000
LOCATION:Firespring
SUMMARY:Walking Group
END:VEVENT
END:VCALENDAR
