BEGIN:VCALENDAR
VERSION:2.0
PRODID:-//phil.firespring.org//NONSGML kigkonsult.se iCalcreator 2.30.10//
CALSCALE:GREGORIAN
METHOD:PUBLISH
UID:e7cddc79-02ce-4323-8f4c-a4541a49c4db
X-WR-CALDESC:Please bring drinking water
X-WR-RELCALID:82bf9ae0163a21c85a31ab2eb52dd2d3
X-WR-TIMEZONE:America/Chicago
BEGIN:VTIMEZONE
TZID:America/Chicago
BEGIN:STANDARD
TZNAME:CST
DTSTART:20291104T020000
TZOFFSETFROM:-0500
TZOFFSETTO:-0600
RDATE:20301103T020000
RDATE:20311102T020000
END:STANDARD
BEGIN:DAYLIGHT
TZNAME:CDT
DTSTART:20300310T020000
TZOFFSETFROM:-0600
TZOFFSETTO:-0500
RDATE:20310309T020000
END:DAYLIGHT
END:VTIMEZONE
BEGIN:VEVENT
UID:859c0533-65f9-4cb2-a210-eeb15da0c20a
DTSTAMP:20260422T210715Z
DESCRIPTION:Please bring drinking water
DTSTART;TZID=America/Chicago:20300801T160000
DTEND;TZID=America/Chicago:20300801T170000
LOCATION:Firespring
SUMMARY:Walking Group
END:VEVENT
END:VCALENDAR
