BEGIN:VCALENDAR
VERSION:2.0
PRODID:-//phil.firespring.org//NONSGML kigkonsult.se iCalcreator 2.30.10//
CALSCALE:GREGORIAN
METHOD:PUBLISH
UID:b336d74a-de95-49f0-b232-0fefcbc4924e
X-WR-CALDESC:Please bring drinking water
X-WR-RELCALID:b43d7d99912f8890cc12d8829ceaf2e0
X-WR-TIMEZONE:America/Chicago
BEGIN:VTIMEZONE
TZID:America/Chicago
BEGIN:STANDARD
TZNAME:CST
DTSTART:20291104T020000
TZOFFSETFROM:-0500
TZOFFSETTO:-0600
RDATE:20301103T020000
RDATE:20311102T020000
END:STANDARD
BEGIN:DAYLIGHT
TZNAME:CDT
DTSTART:20300310T020000
TZOFFSETFROM:-0600
TZOFFSETTO:-0500
RDATE:20310309T020000
END:DAYLIGHT
END:VTIMEZONE
BEGIN:VEVENT
UID:913caa79-f739-4dfb-b9eb-4a4048f86fbb
DTSTAMP:20260422T205137Z
DESCRIPTION:Please bring drinking water
DTSTART;TZID=America/Chicago:20300815T160000
DTEND;TZID=America/Chicago:20300815T170000
LOCATION:Firespring
SUMMARY:Walking Group
END:VEVENT
END:VCALENDAR
