BEGIN:VCALENDAR
VERSION:2.0
PRODID:-//phil.firespring.org//NONSGML kigkonsult.se iCalcreator 2.30.10//
CALSCALE:GREGORIAN
METHOD:PUBLISH
UID:fa0f7fa8-7be5-4c05-b621-9215d8cf0ead
X-WR-CALDESC:Please bring drinking water
X-WR-RELCALID:709cb77ca1b58ba3fbc7b9e237ab4b87
X-WR-TIMEZONE:America/Chicago
BEGIN:VTIMEZONE
TZID:America/Chicago
BEGIN:STANDARD
TZNAME:CST
DTSTART:20291104T020000
TZOFFSETFROM:-0500
TZOFFSETTO:-0600
RDATE:20301103T020000
RDATE:20311102T020000
END:STANDARD
BEGIN:DAYLIGHT
TZNAME:CDT
DTSTART:20300310T020000
TZOFFSETFROM:-0600
TZOFFSETTO:-0500
RDATE:20310309T020000
END:DAYLIGHT
END:VTIMEZONE
BEGIN:VEVENT
UID:63e8d301-2e5b-40be-bce3-9a3f2a28cf82
DTSTAMP:20260422T205105Z
DESCRIPTION:Please bring drinking water
DTSTART;TZID=America/Chicago:20300822T160000
DTEND;TZID=America/Chicago:20300822T170000
LOCATION:Firespring
SUMMARY:Walking Group
END:VEVENT
END:VCALENDAR
