BEGIN:VCALENDAR
VERSION:2.0
PRODID:-//phil.firespring.org//NONSGML kigkonsult.se iCalcreator 2.30.10//
CALSCALE:GREGORIAN
METHOD:PUBLISH
UID:554d9ca4-d43c-4cc1-9b24-1cff5075ba64
X-WR-CALDESC:Please bring drinking water
X-WR-RELCALID:20392411cb1ce032050b410c7329a4ff
X-WR-TIMEZONE:America/Chicago
BEGIN:VTIMEZONE
TZID:America/Chicago
BEGIN:STANDARD
TZNAME:CST
DTSTART:20291104T020000
TZOFFSETFROM:-0500
TZOFFSETTO:-0600
RDATE:20301103T020000
RDATE:20311102T020000
END:STANDARD
BEGIN:DAYLIGHT
TZNAME:CDT
DTSTART:20300310T020000
TZOFFSETFROM:-0600
TZOFFSETTO:-0500
RDATE:20310309T020000
END:DAYLIGHT
END:VTIMEZONE
BEGIN:VEVENT
UID:c87b8283-7bbb-45e2-a1f5-76040e1013dd
DTSTAMP:20260422T224142Z
DESCRIPTION:Please bring drinking water
DTSTART;TZID=America/Chicago:20300912T160000
DTEND;TZID=America/Chicago:20300912T170000
LOCATION:Firespring
SUMMARY:Walking Group
END:VEVENT
END:VCALENDAR
