BEGIN:VCALENDAR
VERSION:2.0
PRODID:-//phil.firespring.org//NONSGML kigkonsult.se iCalcreator 2.30.10//
CALSCALE:GREGORIAN
METHOD:PUBLISH
UID:f7a350b5-65ed-44e5-9b72-3bbf765cb833
X-WR-CALDESC:Please bring drinking water
X-WR-RELCALID:edf22fdaeffd92cf29db1157ceca8291
X-WR-TIMEZONE:America/Chicago
BEGIN:VTIMEZONE
TZID:America/Chicago
BEGIN:STANDARD
TZNAME:CST
DTSTART:20291104T020000
TZOFFSETFROM:-0500
TZOFFSETTO:-0600
RDATE:20301103T020000
RDATE:20311102T020000
END:STANDARD
BEGIN:DAYLIGHT
TZNAME:CDT
DTSTART:20300310T020000
TZOFFSETFROM:-0600
TZOFFSETTO:-0500
RDATE:20310309T020000
RDATE:20320314T020000
END:DAYLIGHT
END:VTIMEZONE
BEGIN:VEVENT
UID:2ebd5bd2-a991-49d3-9b00-0b221fb5f5dd
DTSTAMP:20260423T002701Z
DESCRIPTION:Please bring drinking water
DTSTART;TZID=America/Chicago:20301017T160000
DTEND;TZID=America/Chicago:20301017T170000
LOCATION:Firespring
SUMMARY:Walking Group
END:VEVENT
END:VCALENDAR
