BEGIN:VCALENDAR
VERSION:2.0
PRODID:-//phil.firespring.org//NONSGML kigkonsult.se iCalcreator 2.30.10//
CALSCALE:GREGORIAN
METHOD:PUBLISH
UID:96133114-5cdf-41ef-a63f-4af8cd431fe2
X-WR-CALDESC:Please bring drinking water
X-WR-RELCALID:742d03c7c11588c1d32f6c27a6ad077c
X-WR-TIMEZONE:America/Chicago
BEGIN:VTIMEZONE
TZID:America/Chicago
BEGIN:STANDARD
TZNAME:CST
DTSTART:20291104T020000
TZOFFSETFROM:-0500
TZOFFSETTO:-0600
RDATE:20301103T020000
RDATE:20311102T020000
END:STANDARD
BEGIN:DAYLIGHT
TZNAME:CDT
DTSTART:20300310T020000
TZOFFSETFROM:-0600
TZOFFSETTO:-0500
RDATE:20310309T020000
RDATE:20320314T020000
END:DAYLIGHT
END:VTIMEZONE
BEGIN:VEVENT
UID:7de75fd3-2c45-47dc-9415-1f90a50d08ef
DTSTAMP:20260423T002931Z
DESCRIPTION:Please bring drinking water
DTSTART;TZID=America/Chicago:20301024T160000
DTEND;TZID=America/Chicago:20301024T170000
LOCATION:Firespring
SUMMARY:Walking Group
END:VEVENT
END:VCALENDAR
