BEGIN:VCALENDAR
VERSION:2.0
PRODID:-//phil.firespring.org//NONSGML kigkonsult.se iCalcreator 2.30.10//
CALSCALE:GREGORIAN
METHOD:PUBLISH
UID:ab590ac4-fff3-470c-9cc9-97e93900d3d9
X-WR-CALDESC:Please bring drinking water
X-WR-RELCALID:19e3e43adb1a1b103e1cfc8c05f140c2
X-WR-TIMEZONE:America/Chicago
BEGIN:VTIMEZONE
TZID:America/Chicago
BEGIN:STANDARD
TZNAME:CST
DTSTART:20301103T020000
TZOFFSETFROM:-0500
TZOFFSETTO:-0600
RDATE:20311102T020000
END:STANDARD
BEGIN:DAYLIGHT
TZNAME:CDT
DTSTART:20300310T020000
TZOFFSETFROM:-0600
TZOFFSETTO:-0500
RDATE:20310309T020000
RDATE:20320314T020000
END:DAYLIGHT
END:VTIMEZONE
BEGIN:VEVENT
UID:13baf5e1-11f8-4367-ae4b-09e409b569f7
DTSTAMP:20260423T051045Z
DESCRIPTION:Please bring drinking water
DTSTART;TZID=America/Chicago:20310109T160000
DTEND;TZID=America/Chicago:20310109T170000
LOCATION:Firespring
SUMMARY:Walking Group
END:VEVENT
END:VCALENDAR
