BEGIN:VCALENDAR
VERSION:2.0
PRODID:-//phil.firespring.org//NONSGML kigkonsult.se iCalcreator 2.30.10//
CALSCALE:GREGORIAN
METHOD:PUBLISH
UID:a33b1338-352f-4284-abe3-e4897782eb62
X-WR-CALDESC:Please bring drinking water
X-WR-RELCALID:92cb2a759d9be2e63a8a6a8850699a5d
X-WR-TIMEZONE:America/Chicago
BEGIN:VTIMEZONE
TZID:America/Chicago
BEGIN:STANDARD
TZNAME:CST
DTSTART:20301103T020000
TZOFFSETFROM:-0500
TZOFFSETTO:-0600
RDATE:20311102T020000
END:STANDARD
BEGIN:DAYLIGHT
TZNAME:CDT
DTSTART:20300310T020000
TZOFFSETFROM:-0600
TZOFFSETTO:-0500
RDATE:20310309T020000
RDATE:20320314T020000
END:DAYLIGHT
END:VTIMEZONE
BEGIN:VEVENT
UID:787a3887-41a3-4cba-a098-270b86c94008
DTSTAMP:20260423T064837Z
DESCRIPTION:Please bring drinking water
DTSTART;TZID=America/Chicago:20310213T160000
DTEND;TZID=America/Chicago:20310213T170000
LOCATION:Firespring
SUMMARY:Walking Group
END:VEVENT
END:VCALENDAR
