BEGIN:VCALENDAR
VERSION:2.0
PRODID:-//phil.firespring.org//NONSGML kigkonsult.se iCalcreator 2.30.10//
CALSCALE:GREGORIAN
METHOD:PUBLISH
UID:5f415f1c-d423-4eae-84c0-b8fea219a444
X-WR-CALDESC:Please bring drinking water
X-WR-RELCALID:4f8ed408decf8459f4e40753f6ce772a
X-WR-TIMEZONE:America/Chicago
BEGIN:VTIMEZONE
TZID:America/Chicago
BEGIN:STANDARD
TZNAME:CST
DTSTART:20301103T020000
TZOFFSETFROM:-0500
TZOFFSETTO:-0600
RDATE:20311102T020000
END:STANDARD
BEGIN:DAYLIGHT
TZNAME:CDT
DTSTART:20300310T020000
TZOFFSETFROM:-0600
TZOFFSETTO:-0500
RDATE:20310309T020000
RDATE:20320314T020000
END:DAYLIGHT
END:VTIMEZONE
BEGIN:VEVENT
UID:9724aead-b736-4d8c-8815-40112093c603
DTSTAMP:20260423T064835Z
DESCRIPTION:Please bring drinking water
DTSTART;TZID=America/Chicago:20310227T160000
DTEND;TZID=America/Chicago:20310227T170000
LOCATION:Firespring
SUMMARY:Walking Group
END:VEVENT
END:VCALENDAR
