BEGIN:VCALENDAR
VERSION:2.0
PRODID:-//phil.firespring.org//NONSGML kigkonsult.se iCalcreator 2.30.10//
CALSCALE:GREGORIAN
METHOD:PUBLISH
UID:12f7903c-6c27-4fb1-8322-7618b63da49a
X-WR-CALDESC:Please bring drinking water
X-WR-RELCALID:a8475dfa02fd4697a7427aa21c595097
X-WR-TIMEZONE:America/Chicago
BEGIN:VTIMEZONE
TZID:America/Chicago
BEGIN:STANDARD
TZNAME:CST
DTSTART:20301103T020000
TZOFFSETFROM:-0500
TZOFFSETTO:-0600
RDATE:20311102T020000
END:STANDARD
BEGIN:DAYLIGHT
TZNAME:CDT
DTSTART:20310309T020000
TZOFFSETFROM:-0600
TZOFFSETTO:-0500
RDATE:20320314T020000
END:DAYLIGHT
END:VTIMEZONE
BEGIN:VEVENT
UID:17ff5daf-5af8-4d20-b217-c786449a2910
DTSTAMP:20260423T080502Z
DESCRIPTION:Please bring drinking water
DTSTART;TZID=America/Chicago:20310320T160000
DTEND;TZID=America/Chicago:20310320T170000
LOCATION:Firespring
SUMMARY:Walking Group
END:VEVENT
END:VCALENDAR
