BEGIN:VCALENDAR
VERSION:2.0
PRODID:-//phil.firespring.org//NONSGML kigkonsult.se iCalcreator 2.30.10//
CALSCALE:GREGORIAN
METHOD:PUBLISH
UID:387e9786-5cf9-4ba0-9a02-9aaf0d9dc2de
X-WR-CALDESC:Please bring drinking water
X-WR-RELCALID:7c0035a68da7a3d53257ecaf670da8c0
X-WR-TIMEZONE:America/Chicago
BEGIN:VTIMEZONE
TZID:America/Chicago
BEGIN:STANDARD
TZNAME:CST
DTSTART:20301103T020000
TZOFFSETFROM:-0500
TZOFFSETTO:-0600
RDATE:20311102T020000
RDATE:20321107T020000
END:STANDARD
BEGIN:DAYLIGHT
TZNAME:CDT
DTSTART:20310309T020000
TZOFFSETFROM:-0600
TZOFFSETTO:-0500
RDATE:20320314T020000
END:DAYLIGHT
END:VTIMEZONE
BEGIN:VEVENT
UID:43a77158-b393-4ee6-9546-3400327c534a
DTSTAMP:20260425T120939Z
DESCRIPTION:Please bring drinking water
DTSTART;TZID=America/Chicago:20310612T160000
DTEND;TZID=America/Chicago:20310612T170000
LOCATION:Firespring
SUMMARY:Walking Group
END:VEVENT
END:VCALENDAR
