BEGIN:VCALENDAR
VERSION:2.0
PRODID:-//phil.firespring.org//NONSGML kigkonsult.se iCalcreator 2.30.10//
CALSCALE:GREGORIAN
METHOD:PUBLISH
UID:fea6a3b3-2c1d-4433-a284-ecdb8d01c1d9
X-WR-CALDESC:Please bring drinking water
X-WR-RELCALID:73e65e02090cbd6824afd35bcde8283b
X-WR-TIMEZONE:America/Chicago
BEGIN:VTIMEZONE
TZID:America/Chicago
BEGIN:STANDARD
TZNAME:CST
DTSTART:20301103T020000
TZOFFSETFROM:-0500
TZOFFSETTO:-0600
RDATE:20311102T020000
RDATE:20321107T020000
END:STANDARD
BEGIN:DAYLIGHT
TZNAME:CDT
DTSTART:20310309T020000
TZOFFSETFROM:-0600
TZOFFSETTO:-0500
RDATE:20320314T020000
END:DAYLIGHT
END:VTIMEZONE
BEGIN:VEVENT
UID:b4fa6c65-6daf-4012-b013-74af2d5c9b79
DTSTAMP:20260425T120909Z
DESCRIPTION:Please bring drinking water
DTSTART;TZID=America/Chicago:20310619T160000
DTEND;TZID=America/Chicago:20310619T170000
LOCATION:Firespring
SUMMARY:Walking Group
END:VEVENT
END:VCALENDAR
