BEGIN:VCALENDAR
VERSION:2.0
PRODID:-//phil.firespring.org//NONSGML kigkonsult.se iCalcreator 2.30.10//
CALSCALE:GREGORIAN
METHOD:PUBLISH
UID:92ce8e18-278b-45e7-9add-f2bb64045989
X-WR-CALDESC:Please bring drinking water
X-WR-RELCALID:614a8ea8f8e882ca9429a56cd02a1ebc
X-WR-TIMEZONE:America/Chicago
BEGIN:VTIMEZONE
TZID:America/Chicago
BEGIN:STANDARD
TZNAME:CST
DTSTART:20301103T020000
TZOFFSETFROM:-0500
TZOFFSETTO:-0600
RDATE:20311102T020000
RDATE:20321107T020000
END:STANDARD
BEGIN:DAYLIGHT
TZNAME:CDT
DTSTART:20310309T020000
TZOFFSETFROM:-0600
TZOFFSETTO:-0500
RDATE:20320314T020000
END:DAYLIGHT
END:VTIMEZONE
BEGIN:VEVENT
UID:3738af13-1d80-44e5-a6c9-fb6fe5daa007
DTSTAMP:20260425T133355Z
DESCRIPTION:Please bring drinking water
DTSTART;TZID=America/Chicago:20310703T160000
DTEND;TZID=America/Chicago:20310703T170000
LOCATION:Firespring
SUMMARY:Walking Group
END:VEVENT
END:VCALENDAR
