BEGIN:VCALENDAR
VERSION:2.0
PRODID:-//phil.firespring.org//NONSGML kigkonsult.se iCalcreator 2.30.10//
CALSCALE:GREGORIAN
METHOD:PUBLISH
UID:b7743023-65ad-4343-a404-75b9bd5a3187
X-WR-CALDESC:Please bring drinking water
X-WR-RELCALID:7b1a64063a093cab602b75bd77e432e8
X-WR-TIMEZONE:America/Chicago
BEGIN:VTIMEZONE
TZID:America/Chicago
BEGIN:STANDARD
TZNAME:CST
DTSTART:20301103T020000
TZOFFSETFROM:-0500
TZOFFSETTO:-0600
RDATE:20311102T020000
RDATE:20321107T020000
END:STANDARD
BEGIN:DAYLIGHT
TZNAME:CDT
DTSTART:20310309T020000
TZOFFSETFROM:-0600
TZOFFSETTO:-0500
RDATE:20320314T020000
END:DAYLIGHT
END:VTIMEZONE
BEGIN:VEVENT
UID:838dc49d-8543-4147-bb8b-5626ad931cbd
DTSTAMP:20260425T150503Z
DESCRIPTION:Please bring drinking water
DTSTART;TZID=America/Chicago:20310821T160000
DTEND;TZID=America/Chicago:20310821T170000
LOCATION:Firespring
SUMMARY:Walking Group
END:VEVENT
END:VCALENDAR
