BEGIN:VCALENDAR
VERSION:2.0
PRODID:-//phil.firespring.org//NONSGML kigkonsult.se iCalcreator 2.30.10//
CALSCALE:GREGORIAN
METHOD:PUBLISH
UID:b67fb74d-7901-4609-bc75-37c555cef06b
X-WR-CALDESC:Please bring drinking water
X-WR-RELCALID:c15ad3e6b84ca25560580d6f04f4b634
X-WR-TIMEZONE:America/Chicago
BEGIN:VTIMEZONE
TZID:America/Chicago
BEGIN:STANDARD
TZNAME:CST
DTSTART:20301103T020000
TZOFFSETFROM:-0500
TZOFFSETTO:-0600
RDATE:20311102T020000
RDATE:20321107T020000
END:STANDARD
BEGIN:DAYLIGHT
TZNAME:CDT
DTSTART:20310309T020000
TZOFFSETFROM:-0600
TZOFFSETTO:-0500
RDATE:20320314T020000
END:DAYLIGHT
END:VTIMEZONE
BEGIN:VEVENT
UID:eaf3d95f-afb3-4cb7-885e-affa328080b1
DTSTAMP:20260425T162841Z
DESCRIPTION:Please bring drinking water
DTSTART;TZID=America/Chicago:20310904T160000
DTEND;TZID=America/Chicago:20310904T170000
LOCATION:Firespring
SUMMARY:Walking Group
END:VEVENT
END:VCALENDAR
