BEGIN:VCALENDAR
VERSION:2.0
PRODID:-//phil.firespring.org//NONSGML kigkonsult.se iCalcreator 2.30.10//
CALSCALE:GREGORIAN
METHOD:PUBLISH
UID:355a9b32-c166-4dd8-bb9b-b85f8b7c5cba
X-WR-CALDESC:Please bring drinking water
X-WR-RELCALID:959a56f43f80f2d9e36a61ae0b051b7c
X-WR-TIMEZONE:America/Chicago
BEGIN:VTIMEZONE
TZID:America/Chicago
BEGIN:STANDARD
TZNAME:CST
DTSTART:20301103T020000
TZOFFSETFROM:-0500
TZOFFSETTO:-0600
RDATE:20311102T020000
RDATE:20321107T020000
END:STANDARD
BEGIN:DAYLIGHT
TZNAME:CDT
DTSTART:20310309T020000
TZOFFSETFROM:-0600
TZOFFSETTO:-0500
RDATE:20320314T020000
END:DAYLIGHT
END:VTIMEZONE
BEGIN:VEVENT
UID:652dcb25-4dc4-4f54-913c-0b13fb3cacfa
DTSTAMP:20260425T162248Z
DESCRIPTION:Please bring drinking water
DTSTART;TZID=America/Chicago:20310911T160000
DTEND;TZID=America/Chicago:20310911T170000
LOCATION:Firespring
SUMMARY:Walking Group
END:VEVENT
END:VCALENDAR
