BEGIN:VCALENDAR
VERSION:2.0
PRODID:-//phil.firespring.org//NONSGML kigkonsult.se iCalcreator 2.30.10//
CALSCALE:GREGORIAN
METHOD:PUBLISH
UID:c18c52c4-6f4a-4bdd-b9c0-17b8434828a4
X-WR-CALDESC:Please bring drinking water
X-WR-RELCALID:6f62a380958ba8f318cd6008940fd061
X-WR-TIMEZONE:America/Chicago
BEGIN:VTIMEZONE
TZID:America/Chicago
BEGIN:STANDARD
TZNAME:CST
DTSTART:20311102T020000
TZOFFSETFROM:-0500
TZOFFSETTO:-0600
RDATE:20321107T020000
END:STANDARD
BEGIN:DAYLIGHT
TZNAME:CDT
DTSTART:20310309T020000
TZOFFSETFROM:-0600
TZOFFSETTO:-0500
RDATE:20320314T020000
RDATE:20330313T020000
END:DAYLIGHT
END:VTIMEZONE
BEGIN:VEVENT
UID:27d11c4f-ae1e-4086-9908-13cdb9bce7c3
DTSTAMP:20260425T192205Z
DESCRIPTION:Please bring drinking water
DTSTART;TZID=America/Chicago:20311113T160000
DTEND;TZID=America/Chicago:20311113T170000
LOCATION:Firespring
SUMMARY:Walking Group
END:VEVENT
END:VCALENDAR
