BEGIN:VCALENDAR
VERSION:2.0
PRODID:-//phil.firespring.org//NONSGML kigkonsult.se iCalcreator 2.30.10//
CALSCALE:GREGORIAN
METHOD:PUBLISH
UID:bedf41da-5c62-4223-8176-6a8af05d9b2d
X-WR-CALDESC:Please bring drinking water
X-WR-RELCALID:6fe0654b9ce8d11e85c8f4cb62a91e9f
X-WR-TIMEZONE:America/Chicago
BEGIN:VTIMEZONE
TZID:America/Chicago
BEGIN:STANDARD
TZNAME:CST
DTSTART:20311102T020000
TZOFFSETFROM:-0500
TZOFFSETTO:-0600
RDATE:20321107T020000
END:STANDARD
BEGIN:DAYLIGHT
TZNAME:CDT
DTSTART:20310309T020000
TZOFFSETFROM:-0600
TZOFFSETTO:-0500
RDATE:20320314T020000
RDATE:20330313T020000
END:DAYLIGHT
END:VTIMEZONE
BEGIN:VEVENT
UID:d31887ee-415d-46f5-a88e-592e5bd7e49b
DTSTAMP:20260425T193945Z
DESCRIPTION:Please bring drinking water
DTSTART;TZID=America/Chicago:20311127T160000
DTEND;TZID=America/Chicago:20311127T170000
LOCATION:Firespring
SUMMARY:Walking Group
END:VEVENT
END:VCALENDAR
