BEGIN:VCALENDAR
VERSION:2.0
PRODID:-//phil.firespring.org//NONSGML kigkonsult.se iCalcreator 2.30.10//
CALSCALE:GREGORIAN
METHOD:PUBLISH
UID:88440a28-a131-4f58-bacc-a640a5766e1c
X-WR-CALDESC:Please bring drinking water
X-WR-RELCALID:4eb6aca6d310e0a30e5dacc7b7a7fa20
X-WR-TIMEZONE:America/Chicago
BEGIN:VTIMEZONE
TZID:America/Chicago
BEGIN:STANDARD
TZNAME:CST
DTSTART:20311102T020000
TZOFFSETFROM:-0500
TZOFFSETTO:-0600
RDATE:20321107T020000
END:STANDARD
BEGIN:DAYLIGHT
TZNAME:CDT
DTSTART:20310309T020000
TZOFFSETFROM:-0600
TZOFFSETTO:-0500
RDATE:20320314T020000
RDATE:20330313T020000
END:DAYLIGHT
END:VTIMEZONE
BEGIN:VEVENT
UID:01e70041-3d79-4f2d-ae12-0c10c328f7da
DTSTAMP:20260425T205940Z
DESCRIPTION:Please bring drinking water
DTSTART;TZID=America/Chicago:20311204T160000
DTEND;TZID=America/Chicago:20311204T170000
LOCATION:Firespring
SUMMARY:Walking Group
END:VEVENT
END:VCALENDAR
