BEGIN:VCALENDAR
VERSION:2.0
PRODID:-//phil.firespring.org//NONSGML kigkonsult.se iCalcreator 2.30.10//
CALSCALE:GREGORIAN
METHOD:PUBLISH
UID:6da92365-a365-4dde-aa13-ce30ab10b13a
X-WR-CALDESC:Please bring drinking water
X-WR-RELCALID:ca25b419dda31bd2be0b0eb213c79bc9
X-WR-TIMEZONE:America/Chicago
BEGIN:VTIMEZONE
TZID:America/Chicago
BEGIN:STANDARD
TZNAME:CST
DTSTART:20311102T020000
TZOFFSETFROM:-0500
TZOFFSETTO:-0600
RDATE:20321107T020000
END:STANDARD
BEGIN:DAYLIGHT
TZNAME:CDT
DTSTART:20310309T020000
TZOFFSETFROM:-0600
TZOFFSETTO:-0500
RDATE:20320314T020000
RDATE:20330313T020000
END:DAYLIGHT
END:VTIMEZONE
BEGIN:VEVENT
UID:b5c5756e-0d1a-465a-8585-64a309262764
DTSTAMP:20260425T210045Z
DESCRIPTION:Please bring drinking water
DTSTART;TZID=America/Chicago:20311211T160000
DTEND;TZID=America/Chicago:20311211T170000
LOCATION:Firespring
SUMMARY:Walking Group
END:VEVENT
END:VCALENDAR
