BEGIN:VCALENDAR
VERSION:2.0
PRODID:-//phil.firespring.org//NONSGML kigkonsult.se iCalcreator 2.30.10//
CALSCALE:GREGORIAN
METHOD:PUBLISH
UID:37d5d43d-f989-4d4f-b3bc-f6cdffd64adf
X-WR-CALDESC:Please bring drinking water
X-WR-RELCALID:659947b0dfd146e9956da58e703d85d7
X-WR-TIMEZONE:America/Chicago
BEGIN:VTIMEZONE
TZID:America/Chicago
BEGIN:STANDARD
TZNAME:CST
DTSTART:20191103T020000
TZOFFSETFROM:-0500
TZOFFSETTO:-0600
RDATE:20201101T020000
END:STANDARD
BEGIN:DAYLIGHT
TZNAME:CDT
DTSTART:20190310T020000
TZOFFSETFROM:-0600
TZOFFSETTO:-0500
RDATE:20200308T020000
RDATE:20210314T020000
END:DAYLIGHT
END:VTIMEZONE
BEGIN:VEVENT
UID:56a83901-3a57-4bb2-9e72-e95aeed729f7
DTSTAMP:20260426T040448Z
DESCRIPTION:Please bring drinking water
DTSTART;TZID=America/Chicago:20200213T160000
DTEND;TZID=America/Chicago:20200213T170000
LOCATION:Firespring
SUMMARY:Walking Group
END:VEVENT
END:VCALENDAR
