BEGIN:VCALENDAR
VERSION:2.0
PRODID:-//phil.firespring.org//NONSGML kigkonsult.se iCalcreator 2.30.10//
CALSCALE:GREGORIAN
METHOD:PUBLISH
UID:e5653808-6678-4a4e-9c84-b5382a6855c7
X-WR-CALDESC:
X-WR-RELCALID:3e038b9f0beb4494467923da5968296f
X-WR-TIMEZONE:America/Chicago
BEGIN:VTIMEZONE
TZID:America/Chicago
BEGIN:STANDARD
TZNAME:CST
DTSTART:20191103T020000
TZOFFSETFROM:-0500
TZOFFSETTO:-0600
RDATE:20201101T020000
END:STANDARD
BEGIN:DAYLIGHT
TZNAME:CDT
DTSTART:20190310T020000
TZOFFSETFROM:-0600
TZOFFSETTO:-0500
RDATE:20200308T020000
RDATE:20210314T020000
END:DAYLIGHT
END:VTIMEZONE
BEGIN:VEVENT
UID:ce513e7c-0914-4120-bd43-72097b743980
DTSTAMP:20260426T040229Z
DESCRIPTION:
DTSTART;TZID=America/Chicago:20200225T153000
DTEND;TZID=America/Chicago:20200225T163000
LOCATION:
SUMMARY:MOCIL Conference
END:VEVENT
END:VCALENDAR
