BEGIN:VCALENDAR
VERSION:2.0
PRODID:-//phil.firespring.org//NONSGML kigkonsult.se iCalcreator 2.30.10//
CALSCALE:GREGORIAN
METHOD:PUBLISH
UID:c7ae8033-cf9d-4fd8-9d8a-958abe03e8b5
X-WR-CALDESC:
X-WR-RELCALID:4f10e6f5d8c790db2e363c7895dff7b6
X-WR-TIMEZONE:America/Chicago
BEGIN:VTIMEZONE
TZID:America/Chicago
BEGIN:STANDARD
TZNAME:CST
DTSTART:20191103T020000
TZOFFSETFROM:-0500
TZOFFSETTO:-0600
RDATE:20201101T020000
END:STANDARD
BEGIN:DAYLIGHT
TZNAME:CDT
DTSTART:20190310T020000
TZOFFSETFROM:-0600
TZOFFSETTO:-0500
RDATE:20200308T020000
RDATE:20210314T020000
END:DAYLIGHT
END:VTIMEZONE
BEGIN:VEVENT
UID:42bb2139-ed7a-43c1-9676-d75eced6119e
DTSTAMP:20260426T040153Z
DESCRIPTION:
DTSTART;TZID=America/Chicago:20200226T153000
DTEND;TZID=America/Chicago:20200226T163000
LOCATION:Firespring
SUMMARY:2020 Gala
END:VEVENT
END:VCALENDAR
