BEGIN:VCALENDAR
VERSION:2.0
PRODID:-//phil.firespring.org//NONSGML kigkonsult.se iCalcreator 2.30.10//
CALSCALE:GREGORIAN
METHOD:PUBLISH
UID:1c5a6235-e9a0-4e90-a717-0d031d4c1fd9
X-WR-CALDESC:
X-WR-RELCALID:657c3b8df3e3dc7beada40b1999571b6
X-WR-TIMEZONE:America/Chicago
BEGIN:VTIMEZONE
TZID:America/Chicago
BEGIN:STANDARD
TZNAME:CST
DTSTART:20191103T020000
TZOFFSETFROM:-0500
TZOFFSETTO:-0600
RDATE:20201101T020000
END:STANDARD
BEGIN:DAYLIGHT
TZNAME:CDT
DTSTART:20190310T020000
TZOFFSETFROM:-0600
TZOFFSETTO:-0500
RDATE:20200308T020000
RDATE:20210314T020000
END:DAYLIGHT
END:VTIMEZONE
BEGIN:VEVENT
UID:8f66393b-82c9-4251-9309-70552a1c9454
DTSTAMP:20260426T035220Z
DESCRIPTION:
DTSTART;TZID=America/Chicago:20200227T143000
DTEND;TZID=America/Chicago:20200227T153000
LOCATION:Firespring
SUMMARY:Race Against Poverty
END:VEVENT
END:VCALENDAR
