BEGIN:VCALENDAR
VERSION:2.0
PRODID:-//phil.firespring.org//NONSGML kigkonsult.se iCalcreator 2.30.10//
CALSCALE:GREGORIAN
METHOD:PUBLISH
UID:3422f037-f8ee-419f-a6eb-ac5f53b04a9f
X-WR-CALDESC:Last year at WabiSabi\, we expanded our 'Make-A Difference' (M
 AD) Fund to include scholarships for local nonprofit professionals to util
 ize to attend trainings that increase the efficacy and organizational capa
 city of their nonprofit organizations. We are SO happy to announce that du
 e to their overwhelming popularity & success - MAD Rolling Scholarships ar
 e BACK for 2020! \n\nUp to $300 is available per organization\, per traini
 ng. Applications are ROLLING\, on a first come first serve basis. Training
 s that happen between now and February 2021 can be applied for RIGHT NOW! 
 \n\nApplications can be found at www.wabisabimoab.com/mad. Call Megan at (
 435) 259-2553 or e-mail megan@wabisabimoab.org for more info!
X-WR-RELCALID:4f3b16345efd74cb51ae7ed52593fb82
X-WR-TIMEZONE:America/Chicago
BEGIN:VTIMEZONE
TZID:America/Chicago
BEGIN:STANDARD
TZNAME:CST
DTSTART:20191103T020000
TZOFFSETFROM:-0500
TZOFFSETTO:-0600
RDATE:20201101T020000
END:STANDARD
BEGIN:DAYLIGHT
TZNAME:CDT
DTSTART:20190310T020000
TZOFFSETFROM:-0600
TZOFFSETTO:-0500
RDATE:20200308T020000
RDATE:20210314T020000
END:DAYLIGHT
END:VTIMEZONE
BEGIN:VEVENT
UID:0faaf8f2-2701-44a4-94e1-1a186822fddd
DTSTAMP:20260426T040336Z
DESCRIPTION:Last year at WabiSabi\, we expanded our 'Make-A Difference' (MA
 D) Fund to include scholarships for local nonprofit professionals to utili
 ze to attend trainings that increase the efficacy and organizational capac
 ity of their nonprofit organizations. We are SO happy to announce that due
  to their overwhelming popularity & success - MAD Rolling Scholarships are
  BACK for 2020! \n\nUp to $300 is available per organization\, per trainin
 g. Applications are ROLLING\, on a first come first serve basis. Trainings
  that happen between now and February 2021 can be applied for RIGHT NOW! 
 \n\nApplications can be found at www.wabisabimoab.com/mad. Call Megan at (
 435) 259-2553 or e-mail megan@wabisabimoab.org for more info!
DTSTART;TZID=America/Chicago:20200227T160000
DTEND;TZID=America/Chicago:20200227T170000
LOCATION:Firespring
SUMMARY:Rock Show
END:VEVENT
END:VCALENDAR
