BEGIN:VCALENDAR
VERSION:2.0
PRODID:-//phil.firespring.org//NONSGML kigkonsult.se iCalcreator 2.30.10//
CALSCALE:GREGORIAN
METHOD:PUBLISH
UID:3d48eb6b-152e-4d17-be71-335e71d31b9c
X-WR-CALDESC:Please bring drinking water
X-WR-RELCALID:94a2b126296749b5a0d619f5db13c0eb
X-WR-TIMEZONE:America/Chicago
BEGIN:VTIMEZONE
TZID:America/Chicago
BEGIN:STANDARD
TZNAME:CST
DTSTART:20191103T020000
TZOFFSETFROM:-0500
TZOFFSETTO:-0600
RDATE:20201101T020000
END:STANDARD
BEGIN:DAYLIGHT
TZNAME:CDT
DTSTART:20190310T020000
TZOFFSETFROM:-0600
TZOFFSETTO:-0500
RDATE:20200308T020000
RDATE:20210314T020000
END:DAYLIGHT
END:VTIMEZONE
BEGIN:VEVENT
UID:d777be89-8522-4854-acb7-1648bfcc8db0
DTSTAMP:20260426T023420Z
DESCRIPTION:Please bring drinking water
DTSTART;TZID=America/Chicago:20200305T160000
DTEND;TZID=America/Chicago:20200305T170000
LOCATION:Firespring
SUMMARY:Walking Group
END:VEVENT
END:VCALENDAR
