BEGIN:VCALENDAR
VERSION:2.0
PRODID:-//phil.firespring.org//NONSGML kigkonsult.se iCalcreator 2.30.10//
CALSCALE:GREGORIAN
METHOD:PUBLISH
UID:e774d093-4680-4245-ad37-094ef45f3f2f
X-WR-CALDESC:Please bring drinking water
X-WR-RELCALID:9b8a3298524973c67d876b50c1dcc7a5
X-WR-TIMEZONE:America/Chicago
BEGIN:VTIMEZONE
TZID:America/Chicago
BEGIN:STANDARD
TZNAME:CST
DTSTART:20191103T020000
TZOFFSETFROM:-0500
TZOFFSETTO:-0600
RDATE:20201101T020000
END:STANDARD
BEGIN:DAYLIGHT
TZNAME:CDT
DTSTART:20200308T020000
TZOFFSETFROM:-0600
TZOFFSETTO:-0500
RDATE:20210314T020000
END:DAYLIGHT
END:VTIMEZONE
BEGIN:VEVENT
UID:280d69d8-3a27-42c7-b312-833cc1ff566d
DTSTAMP:20260426T023415Z
DESCRIPTION:Please bring drinking water
DTSTART;TZID=America/Chicago:20200319T160000
DTEND;TZID=America/Chicago:20200319T170000
LOCATION:Firespring
SUMMARY:Walking Group
END:VEVENT
END:VCALENDAR
