BEGIN:VCALENDAR
VERSION:2.0
PRODID:-//phil.firespring.org//NONSGML kigkonsult.se iCalcreator 2.30.10//
CALSCALE:GREGORIAN
METHOD:PUBLISH
UID:9de083fc-4a09-411e-9e48-1860b3875140
X-WR-CALDESC:
X-WR-RELCALID:0169fa941dcf9d2da73ef8d7cc0da212
X-WR-TIMEZONE:America/Chicago
BEGIN:VTIMEZONE
TZID:America/Chicago
BEGIN:STANDARD
TZNAME:CST
DTSTART:20191103T020000
TZOFFSETFROM:-0500
TZOFFSETTO:-0600
RDATE:20201101T020000
END:STANDARD
BEGIN:DAYLIGHT
TZNAME:CDT
DTSTART:20200308T020000
TZOFFSETFROM:-0600
TZOFFSETTO:-0500
RDATE:20210314T020000
END:DAYLIGHT
END:VTIMEZONE
BEGIN:VEVENT
UID:9478439f-1a01-40e3-8c99-b00978df5927
DTSTAMP:20260426T023242Z
DESCRIPTION:
DTSTART;TZID=America/Chicago:20200325T133000
DTEND;TZID=America/Chicago:20200325T143000
LOCATION:Firespring
SUMMARY:Test Event
END:VEVENT
END:VCALENDAR
