BEGIN:VCALENDAR
VERSION:2.0
PRODID:-//phil.firespring.org//NONSGML kigkonsult.se iCalcreator 2.30.10//
CALSCALE:GREGORIAN
METHOD:PUBLISH
UID:7aee4b21-fb65-4842-80a3-c87268eba7fa
X-WR-CALDESC:Please bring drinking water
X-WR-RELCALID:767bba9a6f4c8415f321188420c05ae0
X-WR-TIMEZONE:America/Chicago
BEGIN:VTIMEZONE
TZID:America/Chicago
BEGIN:STANDARD
TZNAME:CST
DTSTART:20191103T020000
TZOFFSETFROM:-0500
TZOFFSETTO:-0600
RDATE:20201101T020000
END:STANDARD
BEGIN:DAYLIGHT
TZNAME:CDT
DTSTART:20200308T020000
TZOFFSETFROM:-0600
TZOFFSETTO:-0500
RDATE:20210314T020000
END:DAYLIGHT
END:VTIMEZONE
BEGIN:VEVENT
UID:3eb1639d-c488-42f2-94a0-38438fd9ebc4
DTSTAMP:20260426T023542Z
DESCRIPTION:Please bring drinking water
DTSTART;TZID=America/Chicago:20200326T160000
DTEND;TZID=America/Chicago:20200326T170000
LOCATION:Firespring
SUMMARY:Walking Group
END:VEVENT
END:VCALENDAR
