BEGIN:VCALENDAR
VERSION:2.0
PRODID:-//phil.firespring.org//NONSGML kigkonsult.se iCalcreator 2.30.10//
CALSCALE:GREGORIAN
METHOD:PUBLISH
UID:e53dfa68-7cdb-44f2-a098-a9a76a4fd8b6
X-WR-CALDESC:Please bring drinking water
X-WR-RELCALID:7d24711cb0eb4fe5292e226de0165d7c
X-WR-TIMEZONE:America/Chicago
BEGIN:VTIMEZONE
TZID:America/Chicago
BEGIN:STANDARD
TZNAME:CST
DTSTART:20191103T020000
TZOFFSETFROM:-0500
TZOFFSETTO:-0600
RDATE:20201101T020000
END:STANDARD
BEGIN:DAYLIGHT
TZNAME:CDT
DTSTART:20200308T020000
TZOFFSETFROM:-0600
TZOFFSETTO:-0500
RDATE:20210314T020000
END:DAYLIGHT
END:VTIMEZONE
BEGIN:VEVENT
UID:2e92145b-9a86-4b0e-a535-af8afad411ee
DTSTAMP:20260426T005859Z
DESCRIPTION:Please bring drinking water
DTSTART;TZID=America/Chicago:20200402T160000
DTEND;TZID=America/Chicago:20200402T170000
LOCATION:Firespring
SUMMARY:Walking Group
END:VEVENT
END:VCALENDAR
