BEGIN:VCALENDAR
VERSION:2.0
PRODID:-//phil.firespring.org//NONSGML kigkonsult.se iCalcreator 2.30.10//
CALSCALE:GREGORIAN
METHOD:PUBLISH
UID:ef306fff-ec9b-43e7-a29a-d39c9bea36dd
X-WR-CALDESC:Please bring drinking water
X-WR-RELCALID:6335f89ed4fa8cd43a765dfba7b3bae4
X-WR-TIMEZONE:America/Chicago
BEGIN:VTIMEZONE
TZID:America/Chicago
BEGIN:STANDARD
TZNAME:CST
DTSTART:20191103T020000
TZOFFSETFROM:-0500
TZOFFSETTO:-0600
RDATE:20201101T020000
END:STANDARD
BEGIN:DAYLIGHT
TZNAME:CDT
DTSTART:20200308T020000
TZOFFSETFROM:-0600
TZOFFSETTO:-0500
RDATE:20210314T020000
END:DAYLIGHT
END:VTIMEZONE
BEGIN:VEVENT
UID:77c1290f-c6b4-41b1-8c06-adbf3441d346
DTSTAMP:20260426T005905Z
DESCRIPTION:Please bring drinking water
DTSTART;TZID=America/Chicago:20200430T160000
DTEND;TZID=America/Chicago:20200430T170000
LOCATION:Firespring
SUMMARY:Walking Group
END:VEVENT
END:VCALENDAR
