BEGIN:VCALENDAR
VERSION:2.0
PRODID:-//phil.firespring.org//NONSGML kigkonsult.se iCalcreator 2.30.10//
CALSCALE:GREGORIAN
METHOD:PUBLISH
UID:6e6cb119-7522-49ce-b1e7-90fa6fc3867a
X-WR-CALDESC:
X-WR-RELCALID:2e545870d24bbc62004d4c19082cfccd
X-WR-TIMEZONE:America/Chicago
BEGIN:VTIMEZONE
TZID:America/Chicago
BEGIN:STANDARD
TZNAME:CST
DTSTART:20191103T020000
TZOFFSETFROM:-0500
TZOFFSETTO:-0600
RDATE:20201101T020000
END:STANDARD
BEGIN:DAYLIGHT
TZNAME:CDT
DTSTART:20200308T020000
TZOFFSETFROM:-0600
TZOFFSETTO:-0500
RDATE:20210314T020000
END:DAYLIGHT
END:VTIMEZONE
BEGIN:VEVENT
UID:719e7ebd-c755-46d7-a575-ef912e789e21
DTSTAMP:20260426T005531Z
DESCRIPTION:
DTSTART;TZID=America/Chicago:20200430T150000
DTEND;TZID=America/Chicago:20200430T160000
LOCATION:
SUMMARY:Golf Event
END:VEVENT
END:VCALENDAR
