BEGIN:VCALENDAR
VERSION:2.0
PRODID:-//phil.firespring.org//NONSGML kigkonsult.se iCalcreator 2.30.10//
CALSCALE:GREGORIAN
METHOD:PUBLISH
UID:28ec39a8-0811-4158-9bb8-089befe5c098
X-WR-CALDESC:Please bring drinking water
X-WR-RELCALID:2fee46b8ab2d8c66315a702b4849b51e
X-WR-TIMEZONE:America/Chicago
BEGIN:VTIMEZONE
TZID:America/Chicago
BEGIN:STANDARD
TZNAME:CST
DTSTART:20191103T020000
TZOFFSETFROM:-0500
TZOFFSETTO:-0600
RDATE:20201101T020000
END:STANDARD
BEGIN:DAYLIGHT
TZNAME:CDT
DTSTART:20200308T020000
TZOFFSETFROM:-0600
TZOFFSETTO:-0500
RDATE:20210314T020000
END:DAYLIGHT
END:VTIMEZONE
BEGIN:VEVENT
UID:d4dbf405-b474-41b2-b33a-02cdc7e581bb
DTSTAMP:20260425T234932Z
DESCRIPTION:Please bring drinking water
DTSTART;TZID=America/Chicago:20200507T160000
DTEND;TZID=America/Chicago:20200507T170000
LOCATION:Firespring
SUMMARY:Walking Group
END:VEVENT
END:VCALENDAR
