BEGIN:VCALENDAR
VERSION:2.0
PRODID:-//phil.firespring.org//NONSGML kigkonsult.se iCalcreator 2.30.10//
CALSCALE:GREGORIAN
METHOD:PUBLISH
UID:d1af93bc-c9da-4dac-90b6-f26879e4a057
X-WR-CALDESC:Please bring drinking water
X-WR-RELCALID:2204d780a8e05a8683b94b0c84de5e70
X-WR-TIMEZONE:America/Chicago
BEGIN:VTIMEZONE
TZID:America/Chicago
BEGIN:STANDARD
TZNAME:CST
DTSTART:20191103T020000
TZOFFSETFROM:-0500
TZOFFSETTO:-0600
RDATE:20201101T020000
RDATE:20211107T020000
END:STANDARD
BEGIN:DAYLIGHT
TZNAME:CDT
DTSTART:20200308T020000
TZOFFSETFROM:-0600
TZOFFSETTO:-0500
RDATE:20210314T020000
END:DAYLIGHT
END:VTIMEZONE
BEGIN:VEVENT
UID:c721e2db-70fa-4264-8cdf-a8e495efefb4
DTSTAMP:20260425T233755Z
DESCRIPTION:Please bring drinking water
DTSTART;TZID=America/Chicago:20200514T160000
DTEND;TZID=America/Chicago:20200514T170000
LOCATION:Firespring
SUMMARY:Walking Group
END:VEVENT
END:VCALENDAR
