BEGIN:VCALENDAR
VERSION:2.0
PRODID:-//phil.firespring.org//NONSGML kigkonsult.se iCalcreator 2.30.10//
CALSCALE:GREGORIAN
METHOD:PUBLISH
UID:1b81f3f9-41a0-40c0-8c84-0b813c6d445a
X-WR-CALDESC:Please Register by June 1st.
X-WR-RELCALID:19123179a8bcaabf13164cfe322f4560
X-WR-TIMEZONE:America/Chicago
BEGIN:VTIMEZONE
TZID:America/Chicago
BEGIN:STANDARD
TZNAME:CST
DTSTART:20191103T020000
TZOFFSETFROM:-0500
TZOFFSETTO:-0600
RDATE:20201101T020000
RDATE:20211107T020000
END:STANDARD
BEGIN:DAYLIGHT
TZNAME:CDT
DTSTART:20200308T020000
TZOFFSETFROM:-0600
TZOFFSETTO:-0500
RDATE:20210314T020000
END:DAYLIGHT
END:VTIMEZONE
BEGIN:VEVENT
UID:da9a1d28-7626-4a7c-9488-4c5c5cc39eb3
DTSTAMP:20260425T233532Z
DESCRIPTION:Please Register by June 1st.
DTSTART;TZID=America/Chicago:20200526T103000
DTEND;TZID=America/Chicago:20200526T113000
LOCATION:
SUMMARY:Energy Conference
END:VEVENT
END:VCALENDAR
