BEGIN:VCALENDAR
VERSION:2.0
PRODID:-//phil.firespring.org//NONSGML kigkonsult.se iCalcreator 2.30.10//
CALSCALE:GREGORIAN
METHOD:PUBLISH
UID:684ef126-2f69-4971-8a1f-830dda6fc0c6
X-WR-CALDESC:
X-WR-RELCALID:9cc3227797d9404ea81eb856f9489c43
X-WR-TIMEZONE:America/Chicago
BEGIN:VTIMEZONE
TZID:America/Chicago
BEGIN:STANDARD
TZNAME:CST
DTSTART:20191103T020000
TZOFFSETFROM:-0500
TZOFFSETTO:-0600
RDATE:20201101T020000
RDATE:20211107T020000
END:STANDARD
BEGIN:DAYLIGHT
TZNAME:CDT
DTSTART:20200308T020000
TZOFFSETFROM:-0600
TZOFFSETTO:-0500
RDATE:20210314T020000
END:DAYLIGHT
END:VTIMEZONE
BEGIN:VEVENT
UID:78e42775-2551-46d5-ad01-0ea3666884cd
DTSTAMP:20260425T233638Z
DESCRIPTION:
DTSTART;TZID=America/Chicago:20200531T160000
DTEND;TZID=America/Chicago:20200531T170000
LOCATION:
SUMMARY:Golf Tournament
END:VEVENT
END:VCALENDAR
