BEGIN:VCALENDAR
VERSION:2.0
PRODID:-//phil.firespring.org//NONSGML kigkonsult.se iCalcreator 2.30.10//
CALSCALE:GREGORIAN
METHOD:PUBLISH
UID:a6dc0620-57b4-4e0b-a607-941a16a127e5
X-WR-CALDESC:Please bring drinking water
X-WR-RELCALID:c68ebd79bb67a9b643bddadbbc1bcc47
X-WR-TIMEZONE:America/Chicago
BEGIN:VTIMEZONE
TZID:America/Chicago
BEGIN:STANDARD
TZNAME:CST
DTSTART:20191103T020000
TZOFFSETFROM:-0500
TZOFFSETTO:-0600
RDATE:20201101T020000
RDATE:20211107T020000
END:STANDARD
BEGIN:DAYLIGHT
TZNAME:CDT
DTSTART:20200308T020000
TZOFFSETFROM:-0600
TZOFFSETTO:-0500
RDATE:20210314T020000
END:DAYLIGHT
END:VTIMEZONE
BEGIN:VEVENT
UID:49940562-ec75-4f28-8e4f-df552ff9bb31
DTSTAMP:20260425T221446Z
DESCRIPTION:Please bring drinking water
DTSTART;TZID=America/Chicago:20200604T160000
DTEND;TZID=America/Chicago:20200604T170000
LOCATION:Firespring
SUMMARY:Walking Group
END:VEVENT
END:VCALENDAR
