BEGIN:VCALENDAR
VERSION:2.0
PRODID:-//phil.firespring.org//NONSGML kigkonsult.se iCalcreator 2.30.10//
CALSCALE:GREGORIAN
METHOD:PUBLISH
UID:00f4f875-c46c-4b43-a8fc-8289f1b94f61
X-WR-CALDESC:Please bring drinking water
X-WR-RELCALID:aeda32cd81363c02054d352f27f87189
X-WR-TIMEZONE:America/Chicago
BEGIN:VTIMEZONE
TZID:America/Chicago
BEGIN:STANDARD
TZNAME:CST
DTSTART:20191103T020000
TZOFFSETFROM:-0500
TZOFFSETTO:-0600
RDATE:20201101T020000
RDATE:20211107T020000
END:STANDARD
BEGIN:DAYLIGHT
TZNAME:CDT
DTSTART:20200308T020000
TZOFFSETFROM:-0600
TZOFFSETTO:-0500
RDATE:20210314T020000
END:DAYLIGHT
END:VTIMEZONE
BEGIN:VEVENT
UID:f1d5660e-c746-466b-8d2f-55fe9c8e611b
DTSTAMP:20260425T221451Z
DESCRIPTION:Please bring drinking water
DTSTART;TZID=America/Chicago:20200611T160000
DTEND;TZID=America/Chicago:20200611T170000
LOCATION:Firespring
SUMMARY:Walking Group
END:VEVENT
END:VCALENDAR
