BEGIN:VCALENDAR
VERSION:2.0
PRODID:-//phil.firespring.org//NONSGML kigkonsult.se iCalcreator 2.30.10//
CALSCALE:GREGORIAN
METHOD:PUBLISH
UID:67f96071-6438-4163-9f32-c680ac6d8c56
X-WR-CALDESC:Please bring drinking water
X-WR-RELCALID:086d376c054f312dd6c3ec8a14a5b9b1
X-WR-TIMEZONE:America/Chicago
BEGIN:VTIMEZONE
TZID:America/Chicago
BEGIN:STANDARD
TZNAME:CST
DTSTART:20191103T020000
TZOFFSETFROM:-0500
TZOFFSETTO:-0600
RDATE:20201101T020000
RDATE:20211107T020000
END:STANDARD
BEGIN:DAYLIGHT
TZNAME:CDT
DTSTART:20200308T020000
TZOFFSETFROM:-0600
TZOFFSETTO:-0500
RDATE:20210314T020000
END:DAYLIGHT
END:VTIMEZONE
BEGIN:VEVENT
UID:375f8e90-dc39-4743-9349-5379eb594eea
DTSTAMP:20260425T204555Z
DESCRIPTION:Please bring drinking water
DTSTART;TZID=America/Chicago:20200702T160000
DTEND;TZID=America/Chicago:20200702T170000
LOCATION:Firespring
SUMMARY:Walking Group
END:VEVENT
END:VCALENDAR
